BEGIN:VCALENDAR
VERSION:2.0
PRODID:-//Delfeayo Marsalis - ECPv6.15.18//NONSGML v1.0//EN
CALSCALE:GREGORIAN
METHOD:PUBLISH
X-WR-CALNAME:Delfeayo Marsalis
X-ORIGINAL-URL:https://www.dmarsalis.com
X-WR-CALDESC:Events for Delfeayo Marsalis
REFRESH-INTERVAL;VALUE=DURATION:PT1H
X-Robots-Tag:noindex
X-PUBLISHED-TTL:PT1H
BEGIN:VTIMEZONE
TZID:America/Chicago
BEGIN:DAYLIGHT
TZOFFSETFROM:-0600
TZOFFSETTO:-0500
TZNAME:CDT
DTSTART:20250309T080000
END:DAYLIGHT
BEGIN:STANDARD
TZOFFSETFROM:-0500
TZOFFSETTO:-0600
TZNAME:CST
DTSTART:20251102T070000
END:STANDARD
BEGIN:DAYLIGHT
TZOFFSETFROM:-0600
TZOFFSETTO:-0500
TZNAME:CDT
DTSTART:20260308T080000
END:DAYLIGHT
BEGIN:STANDARD
TZOFFSETFROM:-0500
TZOFFSETTO:-0600
TZNAME:CST
DTSTART:20261101T070000
END:STANDARD
BEGIN:DAYLIGHT
TZOFFSETFROM:-0600
TZOFFSETTO:-0500
TZNAME:CDT
DTSTART:20270314T080000
END:DAYLIGHT
BEGIN:STANDARD
TZOFFSETFROM:-0500
TZOFFSETTO:-0600
TZNAME:CST
DTSTART:20271107T070000
END:STANDARD
END:VTIMEZONE
BEGIN:VEVENT
DTSTART;TZID=America/Chicago:20260421T193000
DTEND;TZID=America/Chicago:20260421T213000
DTSTAMP:20260420T224632
CREATED:20260224T150045Z
LAST-MODIFIED:20260413T154714Z
UID:2725-1776799800-1776807000@www.dmarsalis.com
SUMMARY:ArtsKSU Presents Delfeayo Marsalis\, Kennesaw State University
DESCRIPTION:
URL:https://www.dmarsalis.com/event/artsksu-presents-delfeayo-marsalis-kennesaw-state-university-2/
LOCATION:Kennesaw State University\, 1000 Chastain Road\, Kennesaw\, GA\, 30144\, United States
CATEGORIES:Performances
END:VEVENT
BEGIN:VEVENT
DTSTART;TZID=America/Chicago:20260424T190000
DTEND;TZID=America/Chicago:20260424T211500
DTSTAMP:20260420T224632
CREATED:20260330T165945Z
LAST-MODIFIED:20260330T165945Z
UID:2758-1777057200-1777065300@www.dmarsalis.com
SUMMARY:Delfeayo Marsalis Quintet\, Mahogany Jazz Hall
DESCRIPTION:
URL:https://www.dmarsalis.com/event/delfeayo-marsalis-quintet-mahogany-jazz-hall-51/
LOCATION:Mahogany Jazz Hall\, 125 Chartres St\, New Orleans\, LA\, 70130\, United States
CATEGORIES:Performances
END:VEVENT
BEGIN:VEVENT
DTSTART;VALUE=DATE:20260429
DTEND;VALUE=DATE:20260430
DTSTAMP:20260420T224632
CREATED:20260317T152748Z
LAST-MODIFIED:20260317T152748Z
UID:2751-1777420800-1777507199@www.dmarsalis.com
SUMMARY:Delfeayo Marsalis and Uptown Jazz Orchestra\, Snug Harbor\, 7:30pm & 9:30pm
DESCRIPTION:
URL:https://www.dmarsalis.com/event/delfeayo-marsalis-and-uptown-jazz-orchestra-snug-harbor-730pm-930pm-72/
LOCATION:Snug Harbor\, 626 Frenchmen Street\, New Orleans\, LA\, 70116\, United States
CATEGORIES:Performances
END:VEVENT
BEGIN:VEVENT
DTSTART;VALUE=DATE:20260430
DTEND;VALUE=DATE:20260501
DTSTAMP:20260420T224632
CREATED:20260209T191408Z
LAST-MODIFIED:20260209T191408Z
UID:2679-1777507200-1777593599@www.dmarsalis.com
SUMMARY:The U.S. Army Blues with Delfeayo Marsalis - Tribute to Mardi Gras\, Blues Alley\, 7:00pm & 9:30pm
DESCRIPTION:
URL:https://www.dmarsalis.com/event/the-u-s-army-blues-with-delfeayo-marsalis-tribute-to-mardi-gras-blues-alley-700pm-930pm/
LOCATION:Blues Alley Jazz\, 1073 Wisconsin Ave. NW\, Washington\, DC\, 20007\, United States
CATEGORIES:Performances
END:VEVENT
BEGIN:VEVENT
DTSTART;VALUE=DATE:20260501
DTEND;VALUE=DATE:20260502
DTSTAMP:20260420T224632
CREATED:20260209T191514Z
LAST-MODIFIED:20260209T210317Z
UID:2681-1777593600-1777679999@www.dmarsalis.com
SUMMARY:Delfeayo Marsalis with the Paul Carr Quartet\, Blues Alley\, 7:00pm & 9:30pm
DESCRIPTION:
URL:https://www.dmarsalis.com/event/delfeayo-marsalis-with-the-paul-carr-quartet-blues-alley-700pm-930pm/
LOCATION:Blues Alley Jazz\, 1073 Wisconsin Ave. NW\, Washington\, DC\, 20007\, United States
CATEGORIES:Performances
END:VEVENT
BEGIN:VEVENT
DTSTART;TZID=America/Chicago:20260502T180000
DTEND;TZID=America/Chicago:20260502T190000
DTSTAMP:20260420T224632
CREATED:20260216T165129Z
LAST-MODIFIED:20260216T165129Z
UID:2712-1777744800-1777748400@www.dmarsalis.com
SUMMARY:Delfeayo Marsalis & the Uptown Jazz Orchestra\, New Orleans Jazz and Heritage Festival
DESCRIPTION:
URL:https://www.dmarsalis.com/event/delfeayo-marsalis-the-uptown-jazz-orchestra-new-orleans-jazz-and-heritage-festival/
LOCATION:WWOZ Jazz Tent Stage\, New Orleans Fair Grounds\, 1751 Gentilly Blvd\, New Orleans\, 70119\, United States
CATEGORIES:Performances
END:VEVENT
BEGIN:VEVENT
DTSTART;TZID=America/Chicago:20260613T193000
DTEND;TZID=America/Chicago:20260613T210000
DTSTAMP:20260420T224632
CREATED:20260211T172850Z
LAST-MODIFIED:20260211T172850Z
UID:2707-1781379000-1781384400@www.dmarsalis.com
SUMMARY:Delfeayo Marsalis and Uptown Jazz Orchestra\, Pittsburgh Cultural Trust Three Rivers Arts Festival
DESCRIPTION:
URL:https://www.dmarsalis.com/event/delfeayo-marsalis-and-uptown-jazz-orchestra-pittsburgh-cultural-trust-three-rivers-arts-festival/
LOCATION:Arts Landing\, 9th St\, Pittsburgh\, PA\, 15222\, United States
CATEGORIES:Performances
END:VEVENT
END:VCALENDAR